BEGIN:VCALENDAR
PRODID:-//eluceo/ical//2.0/EN
VERSION:2.0
CALSCALE:GREGORIAN
BEGIN:VEVENT
UID:32eca53a2bb520f18d30f994126e1f81
DTSTAMP:20260422T192330Z
SUMMARY:TES - Last Day of School Carnival
DESCRIPTION:Jewish Federation of Central Massachusetts\nCalendar\nhttps://j
 ewishcentralmass.org/calendar/tes-last-day-of-school-carnival\n\nTES - Las
 t day of school Carnival\n\n11:00 am - 1:00 pm\n\n 
DTSTART;TZID=America/New_York:20240518T110000
DTEND;TZID=America/New_York:20240518T130000
END:VEVENT
END:VCALENDAR
