BEGIN:VCALENDAR
PRODID:-//eluceo/ical//2.0/EN
VERSION:2.0
CALSCALE:GREGORIAN
BEGIN:VEVENT
UID:3f4537b97e91dd023a397aefc51e315c
DTSTAMP:20260420T230437Z
SUMMARY:TES - Kehilah High
DESCRIPTION:Jewish Federation of Central Massachusetts\nCalendar\nhttps://j
 ewishcentralmass.org/calendar/tes-kehilah-high\n\nTES Kehillah High\n\n6:3
 0 - 8:30 pm
DTSTART;TZID=America/New_York:20211006T183000
DTEND;TZID=America/New_York:20211006T203000
END:VEVENT
END:VCALENDAR
