BEGIN:VCALENDAR
PRODID:-//eluceo/ical//2.0/EN
VERSION:2.0
CALSCALE:GREGORIAN
BEGIN:VEVENT
UID:727f2b2c72a9eaa8ec216287c3ea5b4c
DTSTAMP:20260423T202604Z
SUMMARY:TES Kantika—Spring Concert
DESCRIPTION:Jewish Federation of Central Massachusetts\nCalendar\nhttps://j
 ewishcentralmass.org/calendar/tes-kantikaspring-concert\n\nMay 17\, 2025\n
 \nKantika—Spring Concert\n\n7:00pm – 8:00pm\n\nTES
DTSTART;TZID=America/New_York:20250518T190000
DTEND;TZID=America/New_York:20250518T200000
END:VEVENT
END:VCALENDAR
