BEGIN:VCALENDAR
PRODID:-//eluceo/ical//2.0/EN
VERSION:2.0
CALSCALE:GREGORIAN
BEGIN:VEVENT
UID:5e234e5f4416828e005572d091fd750c
DTSTAMP:20260422T091631Z
SUMMARY:TES Judaism 2022
DESCRIPTION:Jewish Federation of Central Massachusetts\nCalendar\nhttps://j
 ewishcentralmass.org/calendar/tes-judaism-2022\n\nTES Judaism \n\n7:00 pm
DTSTART;TZID=America/New_York:20221203T190000
DTEND;TZID=America/New_York:20221203T210000
END:VEVENT
END:VCALENDAR
