BEGIN:VCALENDAR
PRODID:-//eluceo/ical//2.0/EN
VERSION:2.0
CALSCALE:GREGORIAN
BEGIN:VEVENT
UID:e6a918eff217cec82b4c794f5f44cc55
DTSTAMP:20260422T002341Z
SUMMARY:TES Jud Unbound - May 2023
DESCRIPTION:Jewish Federation of Central Massachusetts\nCalendar\nhttps://j
 ewishcentralmass.org/calendar/tes-jud-unbound-may-2023\n\nTES Jud Unbound\
 n\n7:00 pm
DTSTART;TZID=America/New_York:20230506T190000
DTEND;TZID=America/New_York:20230506T210000
END:VEVENT
END:VCALENDAR
