BEGIN:VCALENDAR
PRODID:-//eluceo/ical//2.0/EN
VERSION:2.0
CALSCALE:GREGORIAN
BEGIN:VEVENT
UID:70433f768fa3702592af67bfe8740971
DTSTAMP:20260423T191511Z
SUMMARY:TES Jud Unbound - February 2023
DESCRIPTION:Jewish Federation of Central Massachusetts\nCalendar\nhttps://j
 ewishcentralmass.org/calendar/tes-jud-unbound-february-2023\n\nTES Jud Unb
 ound\n\n7:00 pm
DTSTART;TZID=America/New_York:20230211T190000
DTEND;TZID=America/New_York:20230211T210000
END:VEVENT
END:VCALENDAR
