BEGIN:VCALENDAR
PRODID:-//eluceo/ical//2.0/EN
VERSION:2.0
CALSCALE:GREGORIAN
BEGIN:VEVENT
UID:b4c72394ea8a72bb31fafa5651f0af6e
DTSTAMP:20260421T095846Z
SUMMARY:TES Intro Judaism - online MAY
DESCRIPTION:Jewish Federation of Central Massachusetts\nCalendar\nhttps://j
 ewishcentralmass.org/calendar/tes-intro-judaism-online-may\n\nTES Intro Ju
 daism - online\n\n7:00 pm
DTSTART;TZID=America/New_York:20240505T190000
DTEND;TZID=America/New_York:20240505T210000
END:VEVENT
END:VCALENDAR
