BEGIN:VCALENDAR
PRODID:-//eluceo/ical//2.0/EN
VERSION:2.0
CALSCALE:GREGORIAN
BEGIN:VEVENT
UID:0635f79f785cef1bcbf4a38cd1d1bd6c
DTSTAMP:20260421T205908Z
SUMMARY:TES Intro Judaism - online
DESCRIPTION:Jewish Federation of Central Massachusetts\nCalendar\nhttps://j
 ewishcentralmass.org/calendar/tes-intro-judaism-online\n\nTES Intro Judais
 m - online\n\n7:00 pm
DTSTART;TZID=America/New_York:20231203T190000
DTEND;TZID=America/New_York:20231203T210000
END:VEVENT
END:VCALENDAR
