BEGIN:VCALENDAR
PRODID:-//eluceo/ical//2.0/EN
VERSION:2.0
CALSCALE:GREGORIAN
BEGIN:VEVENT
UID:a6ffeea6a46239b71cb66f89973b081c
DTSTAMP:20260423T204505Z
SUMMARY:TES Hanukkah Dinner
DESCRIPTION:Jewish Federation of Central Massachusetts\nCalendar\nhttps://j
 ewishcentralmass.org/calendar/tes-hanukkah-dinner\n\nTES Hanukkah Dinner\n
 \n5:30 pm
DTSTART;TZID=America/New_York:20241222T173000
DTEND;TZID=America/New_York:20241222T193000
END:VEVENT
END:VCALENDAR
