BEGIN:VCALENDAR
PRODID:-//eluceo/ical//2.0/EN
VERSION:2.0
CALSCALE:GREGORIAN
BEGIN:VEVENT
UID:9f9a75ce0cccc04617397a2ed3e92379
DTSTAMP:20260422T161022Z
SUMMARY:TES Hanukkah 2023
DESCRIPTION:Jewish Federation of Central Massachusetts\nCalendar\nhttps://j
 ewishcentralmass.org/calendar/tes-hanukkah-2023\n\nTES Hanukkah\n\n5:30 pm
DTSTART;TZID=America/New_York:20231210T173000
DTEND;TZID=America/New_York:20231210T200000
END:VEVENT
END:VCALENDAR
