BEGIN:VCALENDAR
PRODID:-//eluceo/ical//2.0/EN
VERSION:2.0
CALSCALE:GREGORIAN
BEGIN:VEVENT
UID:d45a1dc2fbdbcf43f7bd126dcf339f06
DTSTAMP:20260424T084744Z
SUMMARY:TES Hanukkah 2022
DESCRIPTION:Jewish Federation of Central Massachusetts\nCalendar\nhttps://j
 ewishcentralmass.org/calendar/tes-hanukkah-2022\n\nTES Hanukkah\n\n5:00 - 
 7:00 pm
DTSTART;TZID=America/New_York:20221218T170000
DTEND;TZID=America/New_York:20221218T190000
END:VEVENT
END:VCALENDAR
