BEGIN:VCALENDAR
PRODID:-//eluceo/ical//2.0/EN
VERSION:2.0
CALSCALE:GREGORIAN
BEGIN:VEVENT
UID:516c19f8a32edb1207cf7b9618f2b013
DTSTAMP:20260422T224820Z
SUMMARY:TES - Hanukkah
DESCRIPTION:Jewish Federation of Central Massachusetts\nCalendar\nhttps://j
 ewishcentralmass.org/calendar/tes-hanukkah\n\nTES - Hanukkah\n\n 6:30-7:3
 0 – join us for a light show and Cider/Cocoa/Donut social
DTSTART;TZID=America/New_York:20211204T183000
DTEND;TZID=America/New_York:20211204T193000
END:VEVENT
END:VCALENDAR
