BEGIN:VCALENDAR
PRODID:-//eluceo/ical//2.0/EN
VERSION:2.0
CALSCALE:GREGORIAN
BEGIN:VEVENT
UID:a4d8d7dd1da4e4f9815db6f695171f13
DTSTAMP:20260424T032334Z
SUMMARY:TES Grade 8-12 School Student Hanukkah Program
DESCRIPTION:Jewish Federation of Central Massachusetts\nCalendar\nhttps://j
 ewishcentralmass.org/calendar/tes-grade-8-12-school-student-hanukkah-progr
 am\n\nDec 13 at 6:30PM\n\nTES Grade 8-12 School Student Hanukkah Program
DTSTART;TZID=America/New_York:20231213T183000
DTEND;TZID=America/New_York:20231213T203000
END:VEVENT
END:VCALENDAR
