BEGIN:VCALENDAR
PRODID:-//eluceo/ical//2.0/EN
VERSION:2.0
CALSCALE:GREGORIAN
BEGIN:VEVENT
UID:5ece6a224058bbc191c660c8dcd8f046
DTSTAMP:20260422T163850Z
SUMMARY:TES - First Day of Religious School
DESCRIPTION:Jewish Federation of Central Massachusetts\nCalendar\nhttps://j
 ewishcentralmass.org/calendar/tes-first-day-of-religious-school\n\nTES - F
 irst Day of Religious School
DTSTART;TZID=America/New_York:20210911T090000
DTEND;TZID=America/New_York:20210911T120000
END:VEVENT
END:VCALENDAR
