BEGIN:VCALENDAR
PRODID:-//eluceo/ical//2.0/EN
VERSION:2.0
CALSCALE:GREGORIAN
BEGIN:VEVENT
UID:157ac73c8a8099f0193786b831b485ec
DTSTAMP:20260422T194705Z
SUMMARY:TES Fall Social
DESCRIPTION:Jewish Federation of Central Massachusetts\nCalendar\nhttps://j
 ewishcentralmass.org/calendar/tes-fall-social\n\nTES Fall Social\n\n11:00 
 am
DTSTART;TZID=America/New_York:20220918T110000
DTEND;TZID=America/New_York:20220918T130000
END:VEVENT
END:VCALENDAR
