BEGIN:VCALENDAR
PRODID:-//eluceo/ical//2.0/EN
VERSION:2.0
CALSCALE:GREGORIAN
BEGIN:VEVENT
UID:30013fb78077c24c6a0d66c8d503121b
DTSTAMP:20260423T130813Z
SUMMARY:TES Event
DESCRIPTION:Jewish Federation of Central Massachusetts\nCalendar\nhttps://j
 ewishcentralmass.org/calendar/tes-event\n\nTES Event
DTSTART;TZID=America/New_York:20231218T183000
DTEND;TZID=America/New_York:20231218T203000
END:VEVENT
END:VCALENDAR
