BEGIN:VCALENDAR
PRODID:-//eluceo/ical//2.0/EN
VERSION:2.0
CALSCALE:GREGORIAN
BEGIN:VEVENT
UID:c882373d01380c0e761d163e5797cab6
DTSTAMP:20260423T160821Z
SUMMARY:TES Breakfast
DESCRIPTION:Jewish Federation of Central Massachusetts\nCalendar\nhttps://j
 ewishcentralmass.org/calendar/tes-breakfast\n\nTES Breakfast
DTSTART;TZID=America/New_York:20201018T093000
DTEND;TZID=America/New_York:20201018T113000
END:VEVENT
END:VCALENDAR
