BEGIN:VCALENDAR
PRODID:-//eluceo/ical//2.0/EN
VERSION:2.0
CALSCALE:GREGORIAN
BEGIN:VEVENT
UID:e914570102141027ad8ed6ff39d8104a
DTSTAMP:20260422T112038Z
SUMMARY:TES Board Meeting
DESCRIPTION:Jewish Federation of Central Massachusetts\nCalendar\nhttps://j
 ewishcentralmass.org/calendar/tes-board-meeting1\n\nTES - Board Meeting \
 n\nhttps://emanuelsinai.org/calendar/
DTSTART;TZID=America/New_York:20210809T190000
DTEND;TZID=America/New_York:20210809T210000
END:VEVENT
END:VCALENDAR
