BEGIN:VCALENDAR
PRODID:-//eluceo/ical//2.0/EN
VERSION:2.0
CALSCALE:GREGORIAN
BEGIN:VEVENT
UID:95aa9bf4fd109ec6b0790ffb7e3c1a79
DTSTAMP:20260423T083232Z
SUMMARY:TES Board Meeting 2023-2024
DESCRIPTION:Jewish Federation of Central Massachusetts\nCalendar\nhttps://j
 ewishcentralmass.org/calendar/tes-board-meeting-2023-2024\n\nTES Board Mee
 ting\n\n7:00 pm
DTSTART;TZID=America/New_York:20230911T190000
DTEND;TZID=America/New_York:20230911T210000
END:VEVENT
END:VCALENDAR
