BEGIN:VCALENDAR
PRODID:-//eluceo/ical//2.0/EN
VERSION:2.0
CALSCALE:GREGORIAN
BEGIN:VEVENT
UID:dc43a47aa12c4c7456eeb366d55d61c3
DTSTAMP:20260423T123532Z
SUMMARY:TES Board Meeting
DESCRIPTION:Jewish Federation of Central Massachusetts\nCalendar\nhttps://j
 ewishcentralmass.org/calendar/tes-board-meeting\n\nTES Board Meeting 
DTSTART;TZID=America/New_York:20201012T193000
DTEND;TZID=America/New_York:20201012T213000
END:VEVENT
END:VCALENDAR
