BEGIN:VCALENDAR
PRODID:-//eluceo/ical//2.0/EN
VERSION:2.0
CALSCALE:GREGORIAN
BEGIN:VEVENT
UID:ccef90e14a98a3c84787d5e86eb55e58
DTSTAMP:20260419T142018Z
SUMMARY:TES - B'Mitzvah Ann
DESCRIPTION:Jewish Federation of Central Massachusetts\nCalendar\nhttps://j
 ewishcentralmass.org/calendar/tes-bmitzvah-ann\n\nTES - B'Mitzvah Ann\n\n5
 /1 - 5/3
DTSTART;TZID=America/New_York:20260501T000000
DTEND;TZID=America/New_York:20260502T235959
END:VEVENT
END:VCALENDAR
