BEGIN:VCALENDAR
PRODID:-//eluceo/ical//2.0/EN
VERSION:2.0
CALSCALE:GREGORIAN
BEGIN:VEVENT
UID:2cb6c471f0839173dcbba6469b750254
DTSTAMP:20260425T035823Z
SUMMARY:TES Bar Mitzvah Celebration
DESCRIPTION:Jewish Federation of Central Massachusetts\nCalendar\nhttps://j
 ewishcentralmass.org/calendar/tes-bar-mitzvah-celebration\n\nTemple Emanue
 l Sinai’s Bar Mitzvah Celebration – Thursday – Saturday\, May 1-3\,
  2025 (Times TBD)
DTSTART;TZID=America/New_York:20250501T000000
DTEND;TZID=America/New_York:20250503T235959
END:VEVENT
END:VCALENDAR
