BEGIN:VCALENDAR
PRODID:-//eluceo/ical//2.0/EN
VERSION:2.0
CALSCALE:GREGORIAN
BEGIN:VEVENT
UID:eb4b27ef1fb555d9e7c330bcc570ce2e
DTSTAMP:20260422T155958Z
SUMMARY:TES - Annual Meeting 2026
DESCRIPTION:Jewish Federation of Central Massachusetts\nCalendar\nhttps://j
 ewishcentralmass.org/calendar/tes-annual-meeting-2026\n\nTES - Annual Meet
 ing 2026\n\n7:00 pm
DTSTART;TZID=America/New_York:20260611T190000
DTEND;TZID=America/New_York:20260611T210000
END:VEVENT
END:VCALENDAR
