BEGIN:VCALENDAR
PRODID:-//eluceo/ical//2.0/EN
VERSION:2.0
CALSCALE:GREGORIAN
BEGIN:VEVENT
UID:2e6d64650331ab02f0d466b49e5dc34b
DTSTAMP:20260425T011906Z
SUMMARY:TES Annual Meeting 2024
DESCRIPTION:Jewish Federation of Central Massachusetts\nCalendar\nhttps://j
 ewishcentralmass.org/calendar/tes-annual-meeting-2024\n\nTES Annual Meetin
 g\n\n7:00 pm
DTSTART;TZID=America/New_York:20240613T190000
DTEND;TZID=America/New_York:20240613T210000
END:VEVENT
END:VCALENDAR
