BEGIN:VCALENDAR
PRODID:-//eluceo/ical//2.0/EN
VERSION:2.0
CALSCALE:GREGORIAN
BEGIN:VEVENT
UID:e2b8faccddcd29b267701d67e034c509
DTSTAMP:20260423T042118Z
SUMMARY:TES Annual Meeting 2023
DESCRIPTION:Jewish Federation of Central Massachusetts\nCalendar\nhttps://j
 ewishcentralmass.org/calendar/tes-annual-meeting-2023\n\nTES Annual Meetin
 g \n\n7:30 pm
DTSTART;TZID=America/New_York:20230612T193000
DTEND;TZID=America/New_York:20230612T213000
END:VEVENT
END:VCALENDAR
