BEGIN:VCALENDAR
PRODID:-//eluceo/ical//2.0/EN
VERSION:2.0
CALSCALE:GREGORIAN
BEGIN:VEVENT
UID:865df1c3d7d6dbd22bb79e7adb0167ee
DTSTAMP:20260421T163621Z
SUMMARY:TES Annual Meeting 2018
DESCRIPTION:Jewish Federation of Central Massachusetts\nCalendar\nhttps://j
 ewishcentralmass.org/calendar/tes-annual-meeting-2018\n\nTemple Emanuel Si
 nai’s ANNUAL MEETING\nThursday\, June 21\, 2018 at 7:00 PM\nin the Abr
 aham and Mae Persky Sanctuary\nat Temple Emanuel Sinai\n661 Salisbury Stre
 et\, Worcester
DTSTART;TZID=America/New_York:20180621T190000
DTEND;TZID=America/New_York:20180621T210000
END:VEVENT
END:VCALENDAR
