BEGIN:VCALENDAR
PRODID:-//eluceo/ical//2.0/EN
VERSION:2.0
CALSCALE:GREGORIAN
BEGIN:VEVENT
UID:301a8a864c2db656c303444b540f2675
DTSTAMP:20260420T150637Z
SUMMARY:TES - Acapella Group
DESCRIPTION:Jewish Federation of Central Massachusetts\nCalendar\nhttps://j
 ewishcentralmass.org/calendar/tes-accapella-group\n\nTES - Acapella Group\
 n\n7:00 pm
DTSTART;TZID=America/New_York:20260314T190000
DTEND;TZID=America/New_York:20260314T210000
END:VEVENT
END:VCALENDAR
