BEGIN:VCALENDAR
PRODID:-//eluceo/ical//2.0/EN
VERSION:2.0
CALSCALE:GREGORIAN
BEGIN:VEVENT
UID:e8621229921ba60fa56c452c9203354d
DTSTAMP:20260423T211526Z
SUMMARY:Temple Sinai Congregational Meeting
DESCRIPTION:Jewish Federation of Central Massachusetts\nCalendar\nhttps://j
 ewishcentralmass.org/calendar/temple-sinai-congregational-meeting\n\nTS Co
 ng Mtg
DTSTART;TZID=America/New_York:20130519T100000
DTEND;TZID=America/New_York:20130519T123000
END:VEVENT
END:VCALENDAR
