BEGIN:VCALENDAR
PRODID:-//eluceo/ical//2.0/EN
VERSION:2.0
CALSCALE:GREGORIAN
BEGIN:VEVENT
UID:9e28bd35095141e5ed13c78b9b3dc2e6
DTSTAMP:20260422T143249Z
SUMMARY:Temple Sinai Confirmation
DESCRIPTION:Jewish Federation of Central Massachusetts\nCalendar\nhttps://j
 ewishcentralmass.org/calendar/temple-sinai-confirmation\n\nTS Confirmation
DTSTART;TZID=America/New_York:20130514T190000
DTEND;TZID=America/New_York:20130514T193000
END:VEVENT
END:VCALENDAR
