BEGIN:VCALENDAR
PRODID:-//eluceo/ical//2.0/EN
VERSION:2.0
CALSCALE:GREGORIAN
BEGIN:VEVENT
UID:c49e545bee361f5b7c3ac26aa2e469f4
DTSTAMP:20260423T063311Z
SUMMARY:Temple Sinai Board Meeting
DESCRIPTION:Jewish Federation of Central Massachusetts\nCalendar\nhttps://j
 ewishcentralmass.org/calendar/temple-sinai-board-meeting\n\nTS Bd
DTSTART;TZID=America/New_York:20130114T193000
DTEND;TZID=America/New_York:20130114T200000
END:VEVENT
END:VCALENDAR
