BEGIN:VCALENDAR
PRODID:-//eluceo/ical//2.0/EN
VERSION:2.0
CALSCALE:GREGORIAN
BEGIN:VEVENT
UID:bb5211332bcfa1482c3b19871d30711f
DTSTAMP:20260424T003037Z
SUMMARY:Temple Sinai Annual Meeting
DESCRIPTION:Jewish Federation of Central Massachusetts\nCalendar\nhttps://j
 ewishcentralmass.org/calendar/temple-sinai-annual-meeting\n\nTS Annual Mtg
DTSTART;TZID=America/New_York:20130530T190000
DTEND;TZID=America/New_York:20130530T210000
END:VEVENT
END:VCALENDAR
