BEGIN:VCALENDAR
PRODID:-//eluceo/ical//2.0/EN
VERSION:2.0
CALSCALE:GREGORIAN
BEGIN:VEVENT
UID:7538c8a3ce3da8404b6d42cc816c1c38
DTSTAMP:20260423T204748Z
SUMMARY:Temple Israel - Annual Meeting
DESCRIPTION:Jewish Federation of Central Massachusetts\nCalendar\nhttps://j
 ewishcentralmass.org/calendar/temple-israel-annual-meeting\n\nNOTICE OF AN
 NUAL MEETING\n\n \n\nDate:     Sunday\, May 21\, 2017\n\nTime:     11
  AM\n\nPlace:     Temple Israel\, 107 Walnut Street\, Athol\, MA\n\n Th
 e meeting will be followed by a vegetarian potluck luncheon.
DTSTART;TZID=America/New_York:20170521T110000
DTEND;TZID=America/New_York:20170521T130000
END:VEVENT
END:VCALENDAR
