BEGIN:VCALENDAR
PRODID:-//eluceo/ical//2.0/EN
VERSION:2.0
CALSCALE:GREGORIAN
BEGIN:VEVENT
UID:cb8f5b05b97cefc45d91ffe8a19dfdfd
DTSTAMP:20260422T173727Z
SUMMARY:Temple Emanuel Sinai Prospective Member Open House
DESCRIPTION:Jewish Federation of Central Massachusetts\nCalendar\nhttps://j
 ewishcentralmass.org/calendar/temple-emanuel-sinai-prospective-member-open
 -house\n\nTemple Emanuel Sinai Prospective Member Open House
DTSTART;TZID=America/New_York:20190815T180000
DTEND;TZID=America/New_York:20190815T200000
END:VEVENT
END:VCALENDAR
