BEGIN:VCALENDAR
PRODID:-//eluceo/ical//2.0/EN
VERSION:2.0
CALSCALE:GREGORIAN
BEGIN:VEVENT
UID:dab49c5734cc740dcdee41a55d870364
DTSTAMP:20260422T014400Z
SUMMARY:Temple Emanuel Sinai Open House
DESCRIPTION:Jewish Federation of Central Massachusetts\nCalendar\nhttps://j
 ewishcentralmass.org/calendar/temple-emanuel-sinai-open-house\n\nTES Open 
 House
DTSTART;TZID=America/New_York:20130825T163000
DTEND;TZID=America/New_York:20130825T200000
END:VEVENT
END:VCALENDAR
