BEGIN:VCALENDAR
PRODID:-//eluceo/ical//2.0/EN
VERSION:2.0
CALSCALE:GREGORIAN
BEGIN:VEVENT
UID:c95a7a2445cbc2e1cfff092f750a1f0d
DTSTAMP:20260422T195649Z
SUMMARY:Temple Emanuel Sinai Membership BBQ
DESCRIPTION:Jewish Federation of Central Massachusetts\nCalendar\nhttps://j
 ewishcentralmass.org/calendar/temple-emanuel-sinai-membership-bbq\n\nTempl
 e Emanuel Sinai Membership BBQ
DTSTART;TZID=America/New_York:20140907T163000
DTEND;TZID=America/New_York:20140907T193000
END:VEVENT
END:VCALENDAR
