BEGIN:VCALENDAR
PRODID:-//eluceo/ical//2.0/EN
VERSION:2.0
CALSCALE:GREGORIAN
BEGIN:VEVENT
UID:5bb81e7031d4e7488b717891902d9ae1
DTSTAMP:20260424T092250Z
SUMMARY:Temple Emanuel Sinai Faculty Orientation
DESCRIPTION:Jewish Federation of Central Massachusetts\nCalendar\nhttps://j
 ewishcentralmass.org/calendar/temple-emanuel-sinai-faculty-orientation\n\n
 Temple Emanuel Sinai Faculty Orientation\n\nSept 20 5:30-8pm
DTSTART;TZID=America/New_York:20230920T173000
DTEND;TZID=America/New_York:20230920T200000
END:VEVENT
END:VCALENDAR
