BEGIN:VCALENDAR
PRODID:-//eluceo/ical//2.0/EN
VERSION:2.0
CALSCALE:GREGORIAN
BEGIN:VEVENT
UID:a2154333aeeb3f906561c4be3f7161f3
DTSTAMP:20260421T031444Z
SUMMARY:Temple Emanuel Sinai Ellen Allard CD Release Concert
DESCRIPTION:Jewish Federation of Central Massachusetts\nCalendar\nhttps://j
 ewishcentralmass.org/calendar/temple-emanuel-sinai-ellen-allard-cd-release
 -concert\n\nTES
DTSTART;TZID=America/New_York:20140413T140000
DTEND;TZID=America/New_York:20140413T160000
END:VEVENT
END:VCALENDAR
