BEGIN:VCALENDAR
PRODID:-//eluceo/ical//2.0/EN
VERSION:2.0
CALSCALE:GREGORIAN
BEGIN:VEVENT
UID:04aa249c47a55490d07e12387de8bb35
DTSTAMP:20260422T152225Z
SUMMARY:Temple Emanuel Sinai Congregational Meeting
DESCRIPTION:Jewish Federation of Central Massachusetts\nCalendar\nhttps://j
 ewishcentralmass.org/calendar/temple-emanuel-sinai-congregational-meeting3
 \n\nTES Congregational Meeting
DTSTART;TZID=America/New_York:20150420T190000
DTEND;TZID=America/New_York:20150420T210000
END:VEVENT
END:VCALENDAR
