BEGIN:VCALENDAR
PRODID:-//eluceo/ical//2.0/EN
VERSION:2.0
CALSCALE:GREGORIAN
BEGIN:VEVENT
UID:868180875f854689667719902fd6e3e3
DTSTAMP:20260422T114920Z
SUMMARY:Temple Emanuel Sinai Congregational Meeting
DESCRIPTION:Jewish Federation of Central Massachusetts\nCalendar\nhttps://j
 ewishcentralmass.org/calendar/temple-emanuel-sinai-congregational-meeting2
 \n\nTES Congregational meeting
DTSTART;TZID=America/New_York:20150419T100000
DTEND;TZID=America/New_York:20150419T160000
END:VEVENT
END:VCALENDAR
