BEGIN:VCALENDAR
PRODID:-//eluceo/ical//2.0/EN
VERSION:2.0
CALSCALE:GREGORIAN
BEGIN:VEVENT
UID:8ace6df780c44c0892f50c7faa754035
DTSTAMP:20260422T182056Z
SUMMARY:Temple Emanuel Sinai Congregational Meeting
DESCRIPTION:Jewish Federation of Central Massachusetts\nCalendar\nhttps://j
 ewishcentralmass.org/calendar/temple-emanuel-sinai-congregational-meeting\
 n\nTES Congregational Meeting
DTSTART;TZID=America/New_York:20150315T110000
DTEND;TZID=America/New_York:20150315T140000
END:VEVENT
END:VCALENDAR
