BEGIN:VCALENDAR
PRODID:-//eluceo/ical//2.0/EN
VERSION:2.0
CALSCALE:GREGORIAN
BEGIN:VEVENT
UID:cb71ed3f1dbb7675fda1257a06ca5c77
DTSTAMP:20260423T030249Z
SUMMARY:Temple Emanuel Sinai Board Meeting
DESCRIPTION:Jewish Federation of Central Massachusetts\nCalendar\nhttps://j
 ewishcentralmass.org/calendar/temple-emanuel-sinai-board-meeting-Sept\n\nT
 emple Emanuel Sinai Board Meeting
DTSTART;TZID=America/New_York:20140908T193000
DTEND;TZID=America/New_York:20140908T213000
END:VEVENT
END:VCALENDAR
