BEGIN:VCALENDAR
PRODID:-//eluceo/ical//2.0/EN
VERSION:2.0
CALSCALE:GREGORIAN
BEGIN:VEVENT
UID:7018033bc45a217330faba10816d24c8
DTSTAMP:20260425T033015Z
SUMMARY:Temple Emanuel Sinai Annual Meeting
DESCRIPTION:Jewish Federation of Central Massachusetts\nCalendar\nhttps://j
 ewishcentralmass.org/calendar/temple-emanuel-sinai-annual-meeting\n\nTES A
 nnual Mtg
DTSTART;TZID=America/New_York:20140528T190000
DTEND;TZID=America/New_York:20140528T193000
END:VEVENT
END:VCALENDAR
