BEGIN:VCALENDAR
PRODID:-//eluceo/ical//2.0/EN
VERSION:2.0
CALSCALE:GREGORIAN
BEGIN:VEVENT
UID:9007b3d162934f92c15588717b09ffc5
DTSTAMP:20260423T071830Z
SUMMARY:Temple Emanuel Sinai Adult Education Series Breakfast
DESCRIPTION:Jewish Federation of Central Massachusetts\nCalendar\nhttps://j
 ewishcentralmass.org/calendar/temple-emanuel-sinai-adult-education-series-
 breakfast\n\nTES Adult Ed Series Brkfst
DTSTART;TZID=America/New_York:20140112T100000
DTEND;TZID=America/New_York:20140112T103000
END:VEVENT
END:VCALENDAR
