BEGIN:VCALENDAR
PRODID:-//eluceo/ical//2.0/EN
VERSION:2.0
CALSCALE:GREGORIAN
BEGIN:VEVENT
UID:8a16ead53ac919d9f126960033c7d559
DTSTAMP:20260422T043903Z
SUMMARY:Temple Emanuel Sinai & Congregation B'nai Shalom Confirmation
DESCRIPTION:Jewish Federation of Central Massachusetts\nCalendar\nhttps://j
 ewishcentralmass.org/calendar/temple-emanuel-sinai--congregation-bnai-shal
 om-confirmation\n\nTES & CBS Confirmation
DTSTART;TZID=America/New_York:20140603T190000
DTEND;TZID=America/New_York:20140603T193000
END:VEVENT
END:VCALENDAR
