BEGIN:VCALENDAR
PRODID:-//eluceo/ical//2.0/EN
VERSION:2.0
CALSCALE:GREGORIAN
BEGIN:VEVENT
UID:593bed77cab1401d962e6c868e890ab7
DTSTAMP:20260424T044211Z
SUMMARY:Temple Emanuel Program
DESCRIPTION:Jewish Federation of Central Massachusetts\nCalendar\nhttps://j
 ewishcentralmass.org/calendar/temple-emanuel-program\n\nTE Prog
DTSTART;TZID=America/New_York:20130126T190000
DTEND;TZID=America/New_York:20130126T193000
END:VEVENT
END:VCALENDAR
