BEGIN:VCALENDAR
PRODID:-//eluceo/ical//2.0/EN
VERSION:2.0
CALSCALE:GREGORIAN
BEGIN:VEVENT
UID:9036720d3d2d623631b84fd7c9ee428f
DTSTAMP:20260423T103209Z
SUMMARY:Temple Emanuel Congregational Meeting
DESCRIPTION:Jewish Federation of Central Massachusetts\nCalendar\nhttps://j
 ewishcentralmass.org/calendar/temple-emanuel-congregational-meeting\n\nTE 
 Cong Mtg
DTSTART;TZID=America/New_York:20130519T100000
DTEND;TZID=America/New_York:20130519T123000
END:VEVENT
END:VCALENDAR
