BEGIN:VCALENDAR
PRODID:-//eluceo/ical//2.0/EN
VERSION:2.0
CALSCALE:GREGORIAN
BEGIN:VEVENT
UID:a71c64c8d4ace9ce71cc7e26cb68ea0a
DTSTAMP:20260423T130108Z
SUMMARY:Temple Emanuel Confirmation
DESCRIPTION:Jewish Federation of Central Massachusetts\nCalendar\nhttps://j
 ewishcentralmass.org/calendar/temple-emanuel-confirmation\n\nTE Confirmati
 on
DTSTART;TZID=America/New_York:20130514T190000
DTEND;TZID=America/New_York:20130514T193000
END:VEVENT
END:VCALENDAR
