BEGIN:VCALENDAR
PRODID:-//eluceo/ical//2.0/EN
VERSION:2.0
CALSCALE:GREGORIAN
BEGIN:VEVENT
UID:561d6e5017ecf872c2d3662e49860506
DTSTAMP:20260423T181741Z
SUMMARY:Temple Emanuel Building Informational Meeting
DESCRIPTION:Jewish Federation of Central Massachusetts\nCalendar\nhttps://j
 ewishcentralmass.org/calendar/temple-emanuel-building-informational-meetin
 g\n\nTE Building Informational Meeting
DTSTART;TZID=America/New_York:20130513T190000
DTEND;TZID=America/New_York:20130513T210000
END:VEVENT
END:VCALENDAR
