BEGIN:VCALENDAR
PRODID:-//eluceo/ical//2.0/EN
VERSION:2.0
CALSCALE:GREGORIAN
BEGIN:VEVENT
UID:fc9ac9b69158584ce563aa2a212b089f
DTSTAMP:20260421T040126Z
SUMMARY:Temple Emanuel Board Meeting
DESCRIPTION:Jewish Federation of Central Massachusetts\nCalendar\nhttps://j
 ewishcentralmass.org/calendar/temple-emanuel-board-meeting\n\nTE Bd Mtg
DTSTART;TZID=America/New_York:20130107T193000
DTEND;TZID=America/New_York:20130107T200000
END:VEVENT
END:VCALENDAR
