BEGIN:VCALENDAR
PRODID:-//eluceo/ical//2.0/EN
VERSION:2.0
CALSCALE:GREGORIAN
BEGIN:VEVENT
UID:3edc1c7c68c1cf815af75aa10b6c6c62
DTSTAMP:20260422T182646Z
SUMMARY:Temple Emanuel Annual Meeting
DESCRIPTION:Jewish Federation of Central Massachusetts\nCalendar\nhttps://j
 ewishcentralmass.org/calendar/temple-emanuel-annual-meeting\n\nTE Annual M
 tg
DTSTART;TZID=America/New_York:20130530T190000
DTEND;TZID=America/New_York:20130530T210000
END:VEVENT
END:VCALENDAR
